BEGIN:VCALENDAR
PRODID:-//Microsoft Corporation//Outlook MIMEDIR//EN
VERSION:2.0
METHOD:PUBLISH
BEGIN:VEVENT
DTSTART:20260422T080000
DTEND:20260422T090000
DESCRIPTION:Booked 8:30-4:00
LOCATION:Council Chambers, Courthouse
SUMMARY:SCP General Chamber Booking
CATEGORIES:MEETING
END:VEVENT
END:VCALENDAR
