BEGIN:VCALENDAR
PRODID:-//Microsoft Corporation//Outlook MIMEDIR//EN
VERSION:2.0
METHOD:PUBLISH
BEGIN:VEVENT
DTSTART:20260423T113000
DTEND:20260423T123000
DESCRIPTION:
LOCATION:Council Chambers, Courthouse
SUMMARY:SCP Industrial Development 
CATEGORIES:MEETING
END:VEVENT
END:VCALENDAR
